BEGIN:VCALENDAR
VERSION:2.0
PRODID:-//Pawsh Dog Wash - ECPv6.15.20//NONSGML v1.0//EN
CALSCALE:GREGORIAN
METHOD:PUBLISH
X-ORIGINAL-URL:https://pawshdw.com
X-WR-CALDESC:Events for Pawsh Dog Wash
REFRESH-INTERVAL;VALUE=DURATION:PT1H
X-Robots-Tag:noindex
X-PUBLISHED-TTL:PT1H
BEGIN:VTIMEZONE
TZID:UTC
BEGIN:STANDARD
TZOFFSETFROM:+0000
TZOFFSETTO:+0000
TZNAME:UTC
DTSTART:20200101T000000
END:STANDARD
END:VTIMEZONE
BEGIN:VEVENT
DTSTART;VALUE=DATE:20230623
DTEND;VALUE=DATE:20230624
DTSTAMP:20260420T195344
CREATED:20230604T012712Z
LAST-MODIFIED:20230604T012712Z
UID:766-1687478400-1687564799@pawshdw.com
SUMMARY:June Self-Serve Special
DESCRIPTION:Have multiple pets? \nCome every FRIDAY in June for a 2 for 1 special. 2 Baths for the price of 1 dog (higher weighted dog price will be the single price). If you have a 3rd or 4th pet\, half price!
URL:https://pawshdw.com/event/june-self-serve-special/
END:VEVENT
BEGIN:VEVENT
DTSTART;TZID=UTC:20230616T080000
DTEND;TZID=UTC:20230616T170000
DTSTAMP:20260420T195344
CREATED:20230604T012642Z
LAST-MODIFIED:20230604T012642Z
UID:764-1686902400-1686934800@pawshdw.com
SUMMARY:June Special Self-Serve
DESCRIPTION:Have multiple pets? \nCome every FRIDAY in June for a 2 for 1 special. 2 Baths for the price of 1 dog (higher weighted dog price will be the single price). If you have a 3rd or 4th pet\, half price!
URL:https://pawshdw.com/event/june-special-self-serve-3/
END:VEVENT
BEGIN:VEVENT
DTSTART;TZID=UTC:20230611T140000
DTEND;TZID=UTC:20230611T160000
DTSTAMP:20260420T195344
CREATED:20230604T013658Z
LAST-MODIFIED:20230604T013658Z
UID:778-1686492000-1686499200@pawshdw.com
SUMMARY:Bond Vet Open House Pawty
DESCRIPTION:Come on out to the brand new Bond Vet in Old Town Alexandria! \nWe’ll be there doing nail trims and handing out some fun swag!
URL:https://pawshdw.com/event/bond-vet-open-house-pawty/
LOCATION:Bond Vet Old Town\, 500 Montgomery St. Suite 100\, Alexandria\, VA\, 22314\, United States
END:VEVENT
BEGIN:VEVENT
DTSTART;VALUE=DATE:20230609
DTEND;VALUE=DATE:20230610
DTSTAMP:20260420T195344
CREATED:20230604T012553Z
LAST-MODIFIED:20230604T012553Z
UID:760-1686268800-1686355199@pawshdw.com
SUMMARY:June Special Self-Serve
DESCRIPTION:Have multiple pets? \nCome every FRIDAY in June for a 2 for 1 special. 2 Baths for the price of 1 dog (higher weighted dog price will be the single price). If you have a 3rd or 4th pet\, half price!
URL:https://pawshdw.com/event/june-special-self-serve/
LOCATION:Pawsh Dog Wash\, 4907 Brenman Park Dr\, Alexandria\, VA\, 22304\, United States
END:VEVENT
BEGIN:VEVENT
DTSTART;TZID=UTC:20221204T173000
DTEND;TZID=UTC:20221204T193000
DTSTAMP:20260420T195344
CREATED:20221111T155139Z
LAST-MODIFIED:20221111T155139Z
UID:711-1670175000-1670182200@pawshdw.com
SUMMARY:Holiday Pawty
DESCRIPTION:Come celebrate the holiday season with us! \nTickets come in two packages: \nPhoto Package: $25 – Digital copy of photo with or without Santa (seasonal background) \nPawty Package: $45 – Digital copy of photo with or without Santa (seasonal background)\, holiday snacks and treats\, paint your own ornament and play time in our tub room with toys. \nNo reservations needed.
URL:https://pawshdw.com/event/holiday-pawty/
LOCATION:Pawsh Dog Wash\, 4907 Brenman Park Dr\, Alexandria\, VA\, 22304\, United States
END:VEVENT
BEGIN:VEVENT
DTSTART;TZID=UTC:20221127T173000
DTEND;TZID=UTC:20221127T193000
DTSTAMP:20260420T195344
CREATED:20221111T154952Z
LAST-MODIFIED:20221111T155155Z
UID:708-1669570200-1669577400@pawshdw.com
SUMMARY:Holiday Pawty
DESCRIPTION:Come celebrate the holiday season with us! \nTickets come in two packages: \nPhoto Package: $25 – Digital copy of photo with or without Santa (seasonal background) \nPawty Package: $45 – Digital copy of photo with or without Santa (seasonal background)\, holiday snacks and treats\, paint your own ornament and play time in our tub room with toys. \nNo reservations needed.
URL:https://pawshdw.com/event/christmas-pawty/
LOCATION:Pawsh Dog Wash\, 4907 Brenman Park Dr\, Alexandria\, VA\, 22304\, United States
END:VEVENT
BEGIN:VEVENT
DTSTART;TZID=UTC:20220225T080000
DTEND;TZID=UTC:20220225T180000
DTSTAMP:20260420T195344
CREATED:20220131T181251Z
LAST-MODIFIED:20220131T181251Z
UID:647-1645776000-1645812000@pawshdw.com
SUMMARY:$5 Off Friday
DESCRIPTION:All Self-Serve and Pawsh Packages are $5 off every Friday throughout the month of February.
URL:https://pawshdw.com/event/5-off-friday-4/
END:VEVENT
BEGIN:VEVENT
DTSTART;TZID=UTC:20220218T080000
DTEND;TZID=UTC:20220218T180000
DTSTAMP:20260420T195344
CREATED:20220131T181217Z
LAST-MODIFIED:20220131T181217Z
UID:645-1645171200-1645207200@pawshdw.com
SUMMARY:$5 Off Friday
DESCRIPTION:All Self-Serve and Pawsh Packages are $5 off every Friday throughout the month of February.
URL:https://pawshdw.com/event/5-off-friday-3/
END:VEVENT
BEGIN:VEVENT
DTSTART;TZID=UTC:20220211T080000
DTEND;TZID=UTC:20220211T180000
DTSTAMP:20260420T195344
CREATED:20220131T181149Z
LAST-MODIFIED:20220131T181149Z
UID:643-1644566400-1644602400@pawshdw.com
SUMMARY:$5 Off Friday
DESCRIPTION:All Self-Serve and Pawsh Packages are $5 off every Friday throughout the month of February.
URL:https://pawshdw.com/event/5-off-friday-2/
END:VEVENT
BEGIN:VEVENT
DTSTART;TZID=UTC:20220204T080000
DTEND;TZID=UTC:20220204T180000
DTSTAMP:20260420T195344
CREATED:20220131T181109Z
LAST-MODIFIED:20220131T181109Z
UID:641-1643961600-1643997600@pawshdw.com
SUMMARY:$5 Off Friday
DESCRIPTION:All Self-Serve and Pawsh Packages are $5 off every Friday throughout the month of February.
URL:https://pawshdw.com/event/5-off-friday/
END:VEVENT
BEGIN:VEVENT
DTSTART;TZID=UTC:20210919T100000
DTEND;TZID=UTC:20210919T140000
DTSTAMP:20260420T195344
CREATED:20210806T162427Z
LAST-MODIFIED:20210806T162427Z
UID:604-1632045600-1632060000@pawshdw.com
SUMMARY:One Year Anniversary Celebration!
DESCRIPTION:Come out and join us in celebrating our 1 Year Anniversary! We can’t believe it has been a whole year already! \nWe’ll have vendors for both people and dogs. A ball pit. Raffles. Self-Serve Specials. And of course\, CAKE. \nSo come out and celebrate and let us thank you for making our first year wonderful!
URL:https://pawshdw.com/event/one-year-anniversary-celebration/
LOCATION:Pawsh Dog Wash\, 4907 Brenman Park Dr\, Alexandria\, VA\, 22304\, United States
END:VEVENT
BEGIN:VEVENT
DTSTART;TZID=UTC:20210827T180000
DTEND;TZID=UTC:20210827T200000
DTSTAMP:20260420T195344
CREATED:20210806T160655Z
LAST-MODIFIED:20210812T131622Z
UID:601-1630087200-1630094400@pawshdw.com
SUMMARY:Bath and Brew with Port City Brewing Company
DESCRIPTION:Join us August 27th at Port City Brewing Company from 6pm-8pm. Drop your pup off with us for a bath and blow dry then get a beer while you wait! What better way to spend a Friday night than getting your pup all cleaned and having a few beers for yourself? \nBath prices vary by size. Card payments only. \nWe will only blow dry dogs that can tolerate the dryer. If your dog has stress/anxiety\, then we will towel dry them as thoroughly as possible. \nPlease call or email Pawsh to reserve your spot (walk-ups welcomed availability permitting).
URL:https://pawshdw.com/event/bath-and-brew-with-port-city-brewing-company/
LOCATION:Port City Brewing Company\, 3950 Wheeler Ave\, Alexandria\, 22304\, United States
END:VEVENT
BEGIN:VEVENT
DTSTART;TZID=UTC:20210716T160000
DTEND;TZID=UTC:20210716T183000
DTSTAMP:20260420T195344
CREATED:20210625T010352Z
LAST-MODIFIED:20210625T010352Z
UID:589-1626451200-1626460200@pawshdw.com
SUMMARY:Pawsh Pool Pawty
DESCRIPTION:You asked: we listened. We’re having another Pawsh Pool Pawty! \nKiddie pools. Bubbles. Ball Pit. Goodie Bags. Vendors. So much fun! \n$25 per dog. Tickets go on sale July 1st. Limited Pawty slots so be sure to buy your ticket ASAP! \n**Reactive dogs will have a special 15 minute solo play window from 6:30-7:7:15**
URL:https://pawshdw.com/event/pawsh-pool-pawty-2/
LOCATION:Pawsh Dog Wash\, 4907 Brenman Park Dr\, Alexandria\, VA\, 22304\, United States
END:VEVENT
BEGIN:VEVENT
DTSTART;TZID=UTC:20210627T100000
DTEND;TZID=UTC:20210627T120000
DTSTAMP:20260420T195344
CREATED:20210625T010107Z
LAST-MODIFIED:20210625T010107Z
UID:587-1624788000-1624795200@pawshdw.com
SUMMARY:Pet Rescue Alliance Adoption Event
DESCRIPTION:Come to the shop to meet some adoptable pups! They will be there from 10am-12pm Sunday\, June 27. Pet Rescue Alliance is a local\, foster only\, rescue. Meet the fosters and find out about some amazing dogs looking for a furever home.
URL:https://pawshdw.com/event/pet-rescue-alliance-adoption-event/
LOCATION:Pawsh Dog Wash\, 4907 Brenman Park Dr\, Alexandria\, VA\, 22304\, United States
END:VEVENT
BEGIN:VEVENT
DTSTART;VALUE=DATE:20210626
DTEND;VALUE=DATE:20210627
DTSTAMP:20260420T195344
CREATED:20210503T141807Z
LAST-MODIFIED:20210503T141807Z
UID:571-1624665600-1624751999@pawshdw.com
SUMMARY:Breed Special: Malinois
DESCRIPTION:Breed special! $8 Self-Serve and $16 Pawsh Packages.
URL:https://pawshdw.com/event/breed-special-malinois/
END:VEVENT
BEGIN:VEVENT
DTSTART;VALUE=DATE:20210619
DTEND;VALUE=DATE:20210620
DTSTAMP:20260420T195344
CREATED:20210503T141743Z
LAST-MODIFIED:20210503T141743Z
UID:569-1624060800-1624147199@pawshdw.com
SUMMARY:Breed Special: Australian Cattle Dog
DESCRIPTION:Breed special! $8 Self-Serve and $16 Pawsh Packages.
URL:https://pawshdw.com/event/breed-special-australian-cattle-dog/
END:VEVENT
BEGIN:VEVENT
DTSTART;VALUE=DATE:20210612
DTEND;VALUE=DATE:20210613
DTSTAMP:20260420T195344
CREATED:20210503T141715Z
LAST-MODIFIED:20210503T141715Z
UID:567-1623456000-1623542399@pawshdw.com
SUMMARY:Breed Special: Kelpie
DESCRIPTION:Breed special! $8 Self-Serve and $16 Pawsh Packages.
URL:https://pawshdw.com/event/breed-special-kelpie/
END:VEVENT
BEGIN:VEVENT
DTSTART;VALUE=DATE:20210605
DTEND;VALUE=DATE:20210606
DTSTAMP:20260420T195344
CREATED:20210503T141645Z
LAST-MODIFIED:20210503T141645Z
UID:565-1622851200-1622937599@pawshdw.com
SUMMARY:Breed Special: Dalmation
DESCRIPTION:Breed special! $8 Self-Serve and $16 Pawsh Packages.
URL:https://pawshdw.com/event/breed-special-dalmation/
END:VEVENT
BEGIN:VEVENT
DTSTART;VALUE=DATE:20210529
DTEND;VALUE=DATE:20210530
DTSTAMP:20260420T195344
CREATED:20210503T033124Z
LAST-MODIFIED:20210503T033124Z
UID:559-1622246400-1622332799@pawshdw.com
SUMMARY:Breed Special: Boxer
DESCRIPTION:Breed Special: Boxer. $8 Self-Serve $16 Pawsh Packages.
URL:https://pawshdw.com/event/breed-special-boxer/
LOCATION:Pawsh Dog Wash\, 4907 Brenman Park Dr\, Alexandria\, VA\, 22304\, United States
END:VEVENT
BEGIN:VEVENT
DTSTART;TZID=UTC:20210528T160000
DTEND;TZID=UTC:20210528T180000
DTSTAMP:20260420T195344
CREATED:20210503T033756Z
LAST-MODIFIED:20210513T204011Z
UID:561-1622217600-1622224800@pawshdw.com
SUMMARY:Pawsh Pool Pawty
DESCRIPTION:Come out to our Pawsh Pool Pawty! From 4pm-6pm. Self-Serve will be CLOSED early that day. \n$25 entrance and proof of updated vaccines. A portion of each ticket will benefit the following rescues:\n-Vindicated Pit Bull Rescue\n-Animal Welfare League of Alexandria\n-Lucky Dog Animal Rescue \nWhat your entrance includes:\n-Kiddie pools for your pets enjoyment\n-Ball pool for your pets enjoyment\n-Summer Goodie Bag\n-Towels and dryers to dry off some after play\n-A fun time! \nVendors that will be there: \n-Posh Pets\n-Dingus Designs\n-Passionately Pets\n-Mix Nature Collars \nIf you have a reactive dog that wants to have fun\, contact us! We will be allowing 20 minute play slots for reactive dogs from 6pm-7pm. Limited availability. Just because your dog has a unique personality doesn’t mean they should miss out on the fun!
URL:https://pawshdw.com/event/pawsh-pool-pawty/
LOCATION:Pawsh Dog Wash\, 4907 Brenman Park Dr\, Alexandria\, VA\, 22304\, United States
END:VEVENT
BEGIN:VEVENT
DTSTART;VALUE=DATE:20210522
DTEND;VALUE=DATE:20210523
DTSTAMP:20260420T195344
CREATED:20210503T033037Z
LAST-MODIFIED:20210503T033037Z
UID:557-1621641600-1621727999@pawshdw.com
SUMMARY:Breed Special: Vizsla
DESCRIPTION:Breed Special: Vizsla! $8 Self-Serve and $16 Pawsh Packages.
URL:https://pawshdw.com/event/breed-special-vizsla/
LOCATION:Pawsh Dog Wash\, 4907 Brenman Park Dr\, Alexandria\, VA\, 22304\, United States
END:VEVENT
BEGIN:VEVENT
DTSTART;TZID=UTC:20210521T170000
DTEND;TZID=UTC:20210521T180000
DTSTAMP:20260420T195344
CREATED:20210503T032428Z
LAST-MODIFIED:20210503T032428Z
UID:551-1621616400-1621620000@pawshdw.com
SUMMARY:Puppy Social
DESCRIPTION:Puppy Social from 5pm-6pm. $10 For 1 hour of play and cookie. $20 For play\, cookie and nail trim.\nUse the time to socialize your puppy in the tub room and make the space for their future grooming positive. Ask staff about grooming questions or concerns while socializing with other puppy parents.
URL:https://pawshdw.com/event/puppy-social-2/
END:VEVENT
BEGIN:VEVENT
DTSTART;VALUE=DATE:20210515
DTEND;VALUE=DATE:20210516
DTSTAMP:20260420T195344
CREATED:20210503T032846Z
LAST-MODIFIED:20210503T032846Z
UID:555-1621036800-1621123199@pawshdw.com
SUMMARY:Breed Special: Mixed Breed Day
DESCRIPTION:Mixed breed day! Cavachon\, hound mix\, lab mix\, pit mix\, doodle and more! $8 Self-Serve and $16 Pawsh Package.
URL:https://pawshdw.com/event/breed-special-mixed-breed-day/
LOCATION:Pawsh Dog Wash\, 4907 Brenman Park Dr\, Alexandria\, VA\, 22304\, United States
END:VEVENT
BEGIN:VEVENT
DTSTART;VALUE=DATE:20210509
DTEND;VALUE=DATE:20210510
DTSTAMP:20260420T195344
CREATED:20210503T033916Z
LAST-MODIFIED:20210503T033916Z
UID:563-1620518400-1620604799@pawshdw.com
SUMMARY:Dog Mom Day
DESCRIPTION:All dog moms will receive $5 off all Pawsh Packages and Self-Serve.
URL:https://pawshdw.com/event/dog-mom-day/
LOCATION:Pawsh Dog Wash\, 4907 Brenman Park Dr\, Alexandria\, VA\, 22304\, United States
END:VEVENT
BEGIN:VEVENT
DTSTART;VALUE=DATE:20210508
DTEND;VALUE=DATE:20210509
DTSTAMP:20260420T195344
CREATED:20210503T032541Z
LAST-MODIFIED:20210503T032927Z
UID:553-1620432000-1620518399@pawshdw.com
SUMMARY:Breed Special: Whippet
DESCRIPTION:Whippet Day! Self-Serve $8 and Pawsh Packages $16 for all Whippets!
URL:https://pawshdw.com/event/breed-special-whippet/
LOCATION:Pawsh Dog Wash\, 4907 Brenman Park Dr\, Alexandria\, VA\, 22304\, United States
END:VEVENT
BEGIN:VEVENT
DTSTART;TZID=UTC:20210507T170000
DTEND;TZID=UTC:20210507T180000
DTSTAMP:20260420T195344
CREATED:20210503T032333Z
LAST-MODIFIED:20210503T032333Z
UID:546-1620406800-1620410400@pawshdw.com
SUMMARY:Puppy Social
DESCRIPTION:Puppy Social from 5pm-6pm. $10 For 1 hour of play and cookie. $20 For play\, cookie and nail trim.\nUse the time to socialize your puppy in the tub room and make the space for their future grooming positive. Ask staff about grooming questions or concerns while socializing with other puppy parents.
URL:https://pawshdw.com/event/puppy-social/
LOCATION:Pawsh Dog Wash\, 4907 Brenman Park Dr\, Alexandria\, VA\, 22304\, United States
ORGANIZER;CN="":MAILTO:info@pawshdw.com
END:VEVENT
END:VCALENDAR