BEGIN:VCALENDAR
VERSION:2.0
PRODID:-//Pawsh Dog Wash - ECPv6.15.20//NONSGML v1.0//EN
CALSCALE:GREGORIAN
METHOD:PUBLISH
X-ORIGINAL-URL:https://pawshdw.com
X-WR-CALDESC:Events for Pawsh Dog Wash
REFRESH-INTERVAL;VALUE=DURATION:PT1H
X-Robots-Tag:noindex
X-PUBLISHED-TTL:PT1H
BEGIN:VTIMEZONE
TZID:UTC
BEGIN:STANDARD
TZOFFSETFROM:+0000
TZOFFSETTO:+0000
TZNAME:UTC
DTSTART:20210101T000000
END:STANDARD
END:VTIMEZONE
BEGIN:VEVENT
DTSTART;TZID=UTC:20251012T110000
DTEND;TZID=UTC:20251012T170000
DTSTAMP:20260420T161254
CREATED:20250813T213318Z
LAST-MODIFIED:20250813T213318Z
UID:1008-1760266800-1760288400@pawshdw.com
SUMMARY:Paws In The Park
DESCRIPTION:Come see us at the biggest dog event of the year! \nWe’ll have treats\, supplies\, coupons and raffles!
URL:https://pawshdw.com/event/paws-in-the-park-3/
LOCATION:Oronoco Bay Park\, 100 Madison St\, Alexandria\, VA\, United States
END:VEVENT
BEGIN:VEVENT
DTSTART;TZID=UTC:20251005T110000
DTEND;TZID=UTC:20251005T150000
DTSTAMP:20260420T161254
CREATED:20250813T213218Z
LAST-MODIFIED:20250813T213218Z
UID:1006-1759662000-1759676400@pawshdw.com
SUMMARY:Dogtober Fest at Port City
DESCRIPTION:Come say hi to us at Port City’s Dogtober fest! \nWe’ll have treats\, supplies and raffles.
URL:https://pawshdw.com/event/dogtober-fest-at-port-city/
LOCATION:Port City Brewing Company\, 3950 Wheeler Ave\, Alexandria\, 22304\, United States
END:VEVENT
BEGIN:VEVENT
DTSTART;TZID=UTC:20250914T090000
DTEND;TZID=UTC:20250914T160000
DTSTAMP:20260420T161254
CREATED:20250813T213022Z
LAST-MODIFIED:20250813T213022Z
UID:1003-1757840400-1757865600@pawshdw.com
SUMMARY:Pawsh 5 Year Anniversary Party!
DESCRIPTION:We are celebrating 5 years! Can you believe it? \nCome join us for food\, festivities\, raffles\, mingling and a bunch of puppy love! \n$5 Off ALL services that day. \nMore information will be posted as event gets closer.
URL:https://pawshdw.com/event/pawsh-5-year-anniversary-party/
LOCATION:Pawsh Dog Wash\, 4907 Brenman Park Dr\, Alexandria\, VA\, 22304\, United States
END:VEVENT
BEGIN:VEVENT
DTSTART;TZID=UTC:20250901T090000
DTEND;TZID=UTC:20250901T160000
DTSTAMP:20260420T161254
CREATED:20250813T212646Z
LAST-MODIFIED:20250813T212646Z
UID:1001-1756717200-1756742400@pawshdw.com
SUMMARY:Labor Day Special/Hours
DESCRIPTION:We are open 9am-4pm Monday\, September 1st. \nAll merchandise will be 15% off (not including treats or bandanas).
URL:https://pawshdw.com/event/labor-day-special-hours/
LOCATION:Pawsh Dog Wash\, 4907 Brenman Park Dr\, Alexandria\, VA\, 22304\, United States
END:VEVENT
BEGIN:VEVENT
DTSTART;VALUE=DATE:20250823
DTEND;VALUE=DATE:20250825
DTSTAMP:20260420T161254
CREATED:20250813T212532Z
LAST-MODIFIED:20250813T212532Z
UID:999-1755907200-1756079999@pawshdw.com
SUMMARY:International Dog Weekend
DESCRIPTION:35% Off ALL Self-Serve for Saturday and Sunday August 23-24 in celebration of International Dog Day.
URL:https://pawshdw.com/event/international-dog-weekend/
LOCATION:Pawsh Dog Wash\, 4907 Brenman Park Dr\, Alexandria\, VA\, 22304\, United States
END:VEVENT
BEGIN:VEVENT
DTSTART;TZID=UTC:20241013T110000
DTEND;TZID=UTC:20241013T160000
DTSTAMP:20260420T161254
CREATED:20240920T162547Z
LAST-MODIFIED:20240920T162547Z
UID:931-1728817200-1728835200@pawshdw.com
SUMMARY:Paws In The Park
DESCRIPTION:Come on down to Oronoco Bay Park in Old Town Alexandria. \nPreviously known as Alexandria Love Your Pet Day\, Paws in the Park is a FREE\, fun-filled day for the whole family (including pets)\, featuring entertainment and live music\, activities\, food and drink\, vendors\, shopping\, and adorable adoptable animals! \nPaws in the Park celebrates the love our community has for animals\, with a whole lot of fun on the side. Thousands have enjoyed this event in its previous iterations\, and this year promises to be the biggest and most exciting festival yet.
URL:https://pawshdw.com/event/paws-in-the-park-2/
LOCATION:Oronoco Bay Park\, 100 Madison St\, Alexandria\, VA\, United States
END:VEVENT
BEGIN:VEVENT
DTSTART;TZID=UTC:20241006T120000
DTEND;TZID=UTC:20241006T170000
DTSTAMP:20260420T161254
CREATED:20240920T162047Z
LAST-MODIFIED:20240920T162047Z
UID:929-1728216000-1728234000@pawshdw.com
SUMMARY:Dogtoberfest At Port City
DESCRIPTION:Come out to Port City to have a beer\, play some games\, get a discounted nail trim\, meet other local businesses and have a good time!
URL:https://pawshdw.com/event/dogtoberfest-at-port-city/
LOCATION:Port City Brewing Company\, 3950 Wheeler Ave\, Alexandria\, 22304\, United States
END:VEVENT
BEGIN:VEVENT
DTSTART;TZID=UTC:20240929T110000
DTEND;TZID=UTC:20240929T150000
DTSTAMP:20260420T161254
CREATED:20240920T161708Z
LAST-MODIFIED:20240920T161708Z
UID:926-1727607600-1727622000@pawshdw.com
SUMMARY:Summer Bark Bash
DESCRIPTION:Free Event for all dog lovers! \nWe’ll be doing free nail trims and over 20 vendors with other fun activities and merchandise. \n11am-3pm 2709 S Oakland St\, Arlington\, VA
URL:https://pawshdw.com/event/summer-bark-bash/
LOCATION:Snouts & Stouts\, 2709 S. Oakland\, Arlington\, United States
END:VEVENT
BEGIN:VEVENT
DTSTART;TZID=UTC:20240928T170000
DTEND;TZID=UTC:20240928T190000
DTSTAMP:20260420T161254
CREATED:20240320T014747Z
LAST-MODIFIED:20240320T014747Z
UID:876-1727542800-1727550000@pawshdw.com
SUMMARY:Bath and Brew
DESCRIPTION:Do you need a beer? \nDoes your dog need a bath? \nIs your schedule super busy and you’ve been trying to find time to get both done? \nCome to Port City for our Bath and Brew! Have one of Port City’s amazing beers while we wash your pup! Discounted bath prices and we’ll get your dog washed\, nails trimmed and a good towel dry! We will blow dry where able\, but not guaranteed. \nPrices vary based off size and coat type.
URL:https://pawshdw.com/event/bath-and-brew-5/
LOCATION:Port City Brewing Company\, 3950 Wheeler Ave\, Alexandria\, 22304\, United States
END:VEVENT
BEGIN:VEVENT
DTSTART;TZID=UTC:20240824T170000
DTEND;TZID=UTC:20240824T190000
DTSTAMP:20260420T161254
CREATED:20240320T014708Z
LAST-MODIFIED:20240320T014708Z
UID:874-1724518800-1724526000@pawshdw.com
SUMMARY:Bath and Brew
DESCRIPTION:Do you need a beer? \nDoes your dog need a bath? \nIs your schedule super busy and you’ve been trying to find time to get both done? \nCome to Port City for our Bath and Brew! Have one of Port City’s amazing beers while we wash your pup! Discounted bath prices and we’ll get your dog washed\, nails trimmed and a good towel dry! We will blow dry where able\, but not guaranteed. \nPrices vary based off size and coat type.
URL:https://pawshdw.com/event/bath-and-brew-4/
LOCATION:Port City Brewing Company\, 3950 Wheeler Ave\, Alexandria\, 22304\, United States
END:VEVENT
BEGIN:VEVENT
DTSTART;TZID=UTC:20240727T170000
DTEND;TZID=UTC:20240727T190000
DTSTAMP:20260420T161254
CREATED:20240320T014622Z
LAST-MODIFIED:20240320T014622Z
UID:872-1722099600-1722106800@pawshdw.com
SUMMARY:Bath and Brew
DESCRIPTION:Do you need a beer? \nDoes your dog need a bath? \nIs your schedule super busy and you’ve been trying to find time to get both done? \nCome to Port City for our Bath and Brew! Have one of Port City’s amazing beers while we wash your pup! Discounted bath prices and we’ll get your dog washed\, nails trimmed and a good towel dry! We will blow dry where able\, but not guaranteed. \nPrices vary based off size and coat type.
URL:https://pawshdw.com/event/bath-and-brew-3/
LOCATION:Port City Brewing Company\, 3950 Wheeler Ave\, Alexandria\, 22304\, United States
END:VEVENT
BEGIN:VEVENT
DTSTART;TZID=UTC:20240622T170000
DTEND;TZID=UTC:20240622T190000
DTSTAMP:20260420T161254
CREATED:20240320T014544Z
LAST-MODIFIED:20240320T014544Z
UID:870-1719075600-1719082800@pawshdw.com
SUMMARY:Bath and Brew
DESCRIPTION:Do you need a beer? \nDoes your dog need a bath? \nIs your schedule super busy and you’ve been trying to find time to get both done? \nCome to Port City for our Bath and Brew! Have one of Port City’s amazing beers while we wash your pup! Discounted bath prices and we’ll get your dog washed\, nails trimmed and a good towel dry! We will blow dry where able\, but not guaranteed. \nPrices vary based off size and coat type.
URL:https://pawshdw.com/event/bath-and-brew-2/
LOCATION:Port City Brewing Company\, 3950 Wheeler Ave\, Alexandria\, 22304\, United States
END:VEVENT
BEGIN:VEVENT
DTSTART;TZID=UTC:20240511T170000
DTEND;TZID=UTC:20240511T190000
DTSTAMP:20260420T161254
CREATED:20240320T014456Z
LAST-MODIFIED:20240320T014456Z
UID:868-1715446800-1715454000@pawshdw.com
SUMMARY:Bath and Brew
DESCRIPTION:Do you need a beer? \nDoes your dog need a bath? \nIs your schedule super busy and you’ve been trying to find time to get both done? \nCome to Port City for our Bath and Brew! Have one of Port City’s amazing beers while we wash your pup! Discounted bath prices and we’ll get your dog washed\, nails trimmed and a good towel dry! We will blow dry where able\, but not guaranteed. \nPrices vary based off size and coat type.
URL:https://pawshdw.com/event/bath-and-brew/
LOCATION:Port City Brewing Company\, 3950 Wheeler Ave\, Alexandria\, 22304\, United States
END:VEVENT
BEGIN:VEVENT
DTSTART;TZID=UTC:20240507T170000
DTEND;TZID=UTC:20240507T200000
DTSTAMP:20260420T161254
CREATED:20240320T014857Z
LAST-MODIFIED:20240320T014857Z
UID:878-1715101200-1715112000@pawshdw.com
SUMMARY:Wine and Wash
DESCRIPTION:Come on out to our Wine and Wash Event with our neighbors at Cameron Cafe! \nFor $60 you will receive the following: a basic bath and blow dry for your pup\, 2 wine samples and a cheese board. \nThe event is from 5pm-8pm. Reserve your slot with Pawsh\, pay for your ticket at drop off\, head on over next door to Cameron Cafe and we’ll get your pup all clean while you relax with some wine and cheese. \nAdditional services may be added at time of drop off (i.e. nail trims\, gland expression\, additional brush out). \nAdditional drinks and snacks can be purchased at Cameron Cafe.
URL:https://pawshdw.com/event/wine-and-wash-2/
LOCATION:Pawsh Dog Wash\, 4907 Brenman Park Dr\, Alexandria\, VA\, 22304\, United States
END:VEVENT
BEGIN:VEVENT
DTSTART;TZID=UTC:20240504T090000
DTEND;TZID=UTC:20240504T170000
DTSTAMP:20260420T161254
CREATED:20240320T015131Z
LAST-MODIFIED:20240320T015131Z
UID:880-1714813200-1714842000@pawshdw.com
SUMMARY:Star Wars Day
DESCRIPTION:Come in wearing Star Wars merch or gear and receive $5 Off Pawsh Packages and Self-Serve. \nIf your pet comes in wearing Star Wars gear\, they will receive a FREE cookie. \n 
URL:https://pawshdw.com/event/star-wars-day/
LOCATION:Pawsh Dog Wash\, 4907 Brenman Park Dr\, Alexandria\, VA\, 22304\, United States
END:VEVENT
BEGIN:VEVENT
DTSTART;TZID=UTC:20240409T170000
DTEND;TZID=UTC:20240409T200000
DTSTAMP:20260420T161254
CREATED:20240320T014105Z
LAST-MODIFIED:20240320T014105Z
UID:864-1712682000-1712692800@pawshdw.com
SUMMARY:Wine and Wash
DESCRIPTION:Come on out to our Wine and Wash Event with our neighbors at Cameron Cafe! \nFor $60 you will receive the following: a basic bath and blow dry for your pup\, 2 wine samples and a cheese board. \nThe event is from 5pm-8pm. Reserve your slot with Pawsh\, pay for your ticket at drop off\, head on over next door to Cameron Cafe and we’ll get your pup all clean while you relax with some wine and cheese. \nAdditional services may be added at time of drop off (i.e. nail trims\, gland expression\, additional brush out). \nAdditional drinks and snacks can be purchased at Cameron Cafe.
URL:https://pawshdw.com/event/wine-and-wash/
LOCATION:Pawsh Dog Wash\, 4907 Brenman Park Dr\, Alexandria\, VA\, 22304\, United States
END:VEVENT
BEGIN:VEVENT
DTSTART;TZID=UTC:20240405T160000
DTEND;TZID=UTC:20240405T190000
DTSTAMP:20260420T161254
CREATED:20240320T013643Z
LAST-MODIFIED:20240320T013643Z
UID:861-1712332800-1712343600@pawshdw.com
SUMMARY:$10 Nail Trim Event
DESCRIPTION:Come join us at our friends Felix and Oscar in Kingstowne for this Nail Trim event! \nAll nail trims are $10. Treat your pet to some amazing toys and treats after in Felix and Oscar!
URL:https://pawshdw.com/event/10-nail-trim-event/
LOCATION:Felix and Oscar\, 5840 Kingstowne Towne\, Alexandria\, VA\, 22315\, United States
END:VEVENT
BEGIN:VEVENT
DTSTART;TZID=UTC:20240320T183000
DTEND;TZID=UTC:20240320T200000
DTSTAMP:20260420T161254
CREATED:20240320T015755Z
LAST-MODIFIED:20240320T015755Z
UID:883-1710959400-1710964800@pawshdw.com
SUMMARY:Doodle Brushing 101
DESCRIPTION:Have you ever wanted to learn how to brush your doodle correctly? \nHow to avoid the dreaded shave down? \nCome to this class to learn the basics of brushing and how to maintain your doodles coat in between grooming sessions. \nWe’ll show you what brushes to use\, what brush does what\, how you should brush\, when you should brush\, tips and tricks on helping the brushing process as well as information packet for you to take home. \nThis is a dog-free class\, but feel free to bring in pictures and questions to ask during.
URL:https://pawshdw.com/event/doodle-brushing-101/
LOCATION:Pawsh Dog Wash\, 4907 Brenman Park Dr\, Alexandria\, VA\, 22304\, United States
END:VEVENT
BEGIN:VEVENT
DTSTART;TZID=UTC:20231015T110000
DTEND;TZID=UTC:20231015T160000
DTSTAMP:20260420T161254
CREATED:20230604T014105Z
LAST-MODIFIED:20230604T014105Z
UID:781-1697367600-1697385600@pawshdw.com
SUMMARY:Paws In the Park
DESCRIPTION:Come on out and meet amazing vendors from all over Alexandria and the DMV. \nIt is a day about the pets for the pets! \n  \nWe’ll have a table out with some fun freebies and some merchandise to check out!
URL:https://pawshdw.com/event/paws-in-the-park/
LOCATION:Oronoco Bay Park\, 100 Madison St\, Alexandria\, VA\, United States
END:VEVENT
BEGIN:VEVENT
DTSTART;TZID=UTC:20230918T110000
DTEND;TZID=UTC:20230918T140000
DTSTAMP:20260420T161254
CREATED:20230604T013422Z
LAST-MODIFIED:20230604T013422Z
UID:776-1695034800-1695045600@pawshdw.com
SUMMARY:3 Year Anniversary Celebration
DESCRIPTION:Come out and celebrate 3 Years with us! \nWe’ll have half-price self-serve all day\, raffles\, treats\, merchandise and vendors!
URL:https://pawshdw.com/event/3-year-anniversary-celebration/
LOCATION:Pawsh Dog Wash\, 4907 Brenman Park Dr\, Alexandria\, VA\, 22304\, United States
END:VEVENT
BEGIN:VEVENT
DTSTART;TZID=UTC:20230910T170000
DTEND;TZID=UTC:20230910T190000
DTSTAMP:20260420T161254
CREATED:20230604T013241Z
LAST-MODIFIED:20230604T013241Z
UID:774-1694365200-1694372400@pawshdw.com
SUMMARY:Bath and Brew at Port City
DESCRIPTION:Do you like beer? \nDoes your dog smell? \nIs your schedule super busy and you’ve been trying to find time to get both done? \nCome to Port City for our Bath and Brew! Have one of Port City’s amazing beers while we wash your pup! Discounted bath prices and we’ll get your dog washed\, nails trimmed and a good towel dry! We will blow dry where able\, but not guaranteed.
URL:https://pawshdw.com/event/bath-and-brew-at-port-city-3/
LOCATION:Port City Brewing Company\, 3950 Wheeler Ave\, Alexandria\, 22304\, United States
END:VEVENT
BEGIN:VEVENT
DTSTART;TZID=UTC:20230811T170000
DTEND;TZID=UTC:20230811T190000
DTSTAMP:20260420T161254
CREATED:20230604T013202Z
LAST-MODIFIED:20230604T013202Z
UID:772-1691773200-1691780400@pawshdw.com
SUMMARY:Bath and Brew at Port City
DESCRIPTION:Do you like beer? \nDoes your dog smell? \nIs your schedule super busy and you’ve been trying to find time to get both done? \nCome to Port City for our Bath and Brew! Have one of Port City’s amazing beers while we wash your pup! Discounted bath prices and we’ll get your dog washed\, nails trimmed and a good towel dry! We will blow dry where able\, but not guaranteed.
URL:https://pawshdw.com/event/bath-and-brew-at-port-city-2/
LOCATION:Port City Brewing Company\, 3950 Wheeler Ave\, Alexandria\, 22304\, United States
END:VEVENT
BEGIN:VEVENT
DTSTART;TZID=UTC:20230709T170000
DTEND;TZID=UTC:20230709T190000
DTSTAMP:20260420T161254
CREATED:20230604T013121Z
LAST-MODIFIED:20230604T013121Z
UID:770-1688922000-1688929200@pawshdw.com
SUMMARY:Bath and Brew at Port City
DESCRIPTION:Do you like beer? \nDoes your dog smell? \nIs your schedule super busy and you’ve been trying to find time to get both done? \nCome to Port City for our Bath and Brew! Have one of Port City’s amazing beers while we wash your pup! Discounted bath prices and we’ll get your dog washed\, nails trimmed and a good towel dry! We will blow dry where able\, but not guaranteed.
URL:https://pawshdw.com/event/bath-and-brew-at-port-city/
LOCATION:Port City Brewing Company\, 3950 Wheeler Ave\, Alexandria\, 22304\, United States
END:VEVENT
BEGIN:VEVENT
DTSTART;VALUE=DATE:20230630
DTEND;VALUE=DATE:20230701
DTSTAMP:20260420T161254
CREATED:20230604T012732Z
LAST-MODIFIED:20230604T012732Z
UID:768-1688083200-1688169599@pawshdw.com
SUMMARY:June Self-Serve Special
DESCRIPTION:Have multiple pets? \nCome every FRIDAY in June for a 2 for 1 special. 2 Baths for the price of 1 dog (higher weighted dog price will be the single price). If you have a 3rd or 4th pet\, half price!
URL:https://pawshdw.com/event/june-self-serve-special-2/
LOCATION:VA
END:VEVENT
BEGIN:VEVENT
DTSTART;VALUE=DATE:20230623
DTEND;VALUE=DATE:20230624
DTSTAMP:20260420T161254
CREATED:20230604T012712Z
LAST-MODIFIED:20230604T012712Z
UID:766-1687478400-1687564799@pawshdw.com
SUMMARY:June Self-Serve Special
DESCRIPTION:Have multiple pets? \nCome every FRIDAY in June for a 2 for 1 special. 2 Baths for the price of 1 dog (higher weighted dog price will be the single price). If you have a 3rd or 4th pet\, half price!
URL:https://pawshdw.com/event/june-self-serve-special/
LOCATION:VA
END:VEVENT
BEGIN:VEVENT
DTSTART;TZID=UTC:20230616T080000
DTEND;TZID=UTC:20230616T170000
DTSTAMP:20260420T161254
CREATED:20230604T012642Z
LAST-MODIFIED:20230604T012642Z
UID:764-1686902400-1686934800@pawshdw.com
SUMMARY:June Special Self-Serve
DESCRIPTION:Have multiple pets? \nCome every FRIDAY in June for a 2 for 1 special. 2 Baths for the price of 1 dog (higher weighted dog price will be the single price). If you have a 3rd or 4th pet\, half price!
URL:https://pawshdw.com/event/june-special-self-serve-3/
LOCATION:VA
END:VEVENT
BEGIN:VEVENT
DTSTART;TZID=UTC:20230611T140000
DTEND;TZID=UTC:20230611T160000
DTSTAMP:20260420T161254
CREATED:20230604T013658Z
LAST-MODIFIED:20230604T013658Z
UID:778-1686492000-1686499200@pawshdw.com
SUMMARY:Bond Vet Open House Pawty
DESCRIPTION:Come on out to the brand new Bond Vet in Old Town Alexandria! \nWe’ll be there doing nail trims and handing out some fun swag!
URL:https://pawshdw.com/event/bond-vet-open-house-pawty/
LOCATION:Bond Vet Old Town\, 500 Montgomery St. Suite 100\, Alexandria\, VA\, 22314\, United States
END:VEVENT
BEGIN:VEVENT
DTSTART;VALUE=DATE:20230609
DTEND;VALUE=DATE:20230610
DTSTAMP:20260420T161254
CREATED:20230604T012553Z
LAST-MODIFIED:20230604T012553Z
UID:760-1686268800-1686355199@pawshdw.com
SUMMARY:June Special Self-Serve
DESCRIPTION:Have multiple pets? \nCome every FRIDAY in June for a 2 for 1 special. 2 Baths for the price of 1 dog (higher weighted dog price will be the single price). If you have a 3rd or 4th pet\, half price!
URL:https://pawshdw.com/event/june-special-self-serve/
LOCATION:Pawsh Dog Wash\, 4907 Brenman Park Dr\, Alexandria\, VA\, 22304\, United States
END:VEVENT
BEGIN:VEVENT
DTSTART;TZID=UTC:20221204T173000
DTEND;TZID=UTC:20221204T193000
DTSTAMP:20260420T161254
CREATED:20221111T155139Z
LAST-MODIFIED:20221111T155139Z
UID:711-1670175000-1670182200@pawshdw.com
SUMMARY:Holiday Pawty
DESCRIPTION:Come celebrate the holiday season with us! \nTickets come in two packages: \nPhoto Package: $25 – Digital copy of photo with or without Santa (seasonal background) \nPawty Package: $45 – Digital copy of photo with or without Santa (seasonal background)\, holiday snacks and treats\, paint your own ornament and play time in our tub room with toys. \nNo reservations needed.
URL:https://pawshdw.com/event/holiday-pawty/
LOCATION:Pawsh Dog Wash\, 4907 Brenman Park Dr\, Alexandria\, VA\, 22304\, United States
END:VEVENT
BEGIN:VEVENT
DTSTART;TZID=UTC:20221127T173000
DTEND;TZID=UTC:20221127T193000
DTSTAMP:20260420T161254
CREATED:20221111T154952Z
LAST-MODIFIED:20221111T155155Z
UID:708-1669570200-1669577400@pawshdw.com
SUMMARY:Holiday Pawty
DESCRIPTION:Come celebrate the holiday season with us! \nTickets come in two packages: \nPhoto Package: $25 – Digital copy of photo with or without Santa (seasonal background) \nPawty Package: $45 – Digital copy of photo with or without Santa (seasonal background)\, holiday snacks and treats\, paint your own ornament and play time in our tub room with toys. \nNo reservations needed.
URL:https://pawshdw.com/event/christmas-pawty/
LOCATION:Pawsh Dog Wash\, 4907 Brenman Park Dr\, Alexandria\, VA\, 22304\, United States
END:VEVENT
END:VCALENDAR